BEGIN:VCALENDAR
VERSION:2.0
PRODID:-//Dracut Pop Warner Football &amp; Cheer - ECPv6.15.18//NONSGML v1.0//EN
CALSCALE:GREGORIAN
METHOD:PUBLISH
X-WR-CALNAME:Dracut Pop Warner Football &amp; Cheer
X-ORIGINAL-URL:https://dracutpopwarner.com
X-WR-CALDESC:Events for Dracut Pop Warner Football &amp; Cheer
REFRESH-INTERVAL;VALUE=DURATION:PT1H
X-Robots-Tag:noindex
X-PUBLISHED-TTL:PT1H
BEGIN:VTIMEZONE
TZID:America/New_York
BEGIN:DAYLIGHT
TZOFFSETFROM:-0500
TZOFFSETTO:-0400
TZNAME:EDT
DTSTART:20250309T070000
END:DAYLIGHT
BEGIN:STANDARD
TZOFFSETFROM:-0400
TZOFFSETTO:-0500
TZNAME:EST
DTSTART:20251102T060000
END:STANDARD
BEGIN:DAYLIGHT
TZOFFSETFROM:-0500
TZOFFSETTO:-0400
TZNAME:EDT
DTSTART:20260308T070000
END:DAYLIGHT
BEGIN:STANDARD
TZOFFSETFROM:-0400
TZOFFSETTO:-0500
TZNAME:EST
DTSTART:20261101T060000
END:STANDARD
BEGIN:DAYLIGHT
TZOFFSETFROM:-0500
TZOFFSETTO:-0400
TZNAME:EDT
DTSTART:20270314T070000
END:DAYLIGHT
BEGIN:STANDARD
TZOFFSETFROM:-0400
TZOFFSETTO:-0500
TZNAME:EST
DTSTART:20271107T060000
END:STANDARD
END:VTIMEZONE
BEGIN:VEVENT
DTSTART;TZID=America/New_York:20260517T090000
DTEND;TZID=America/New_York:20260517T140000
DTSTAMP:20260424T152939
CREATED:20260406T134311Z
LAST-MODIFIED:20260406T134311Z
UID:6083-1779008400-1779026400@dracutpopwarner.com
SUMMARY:Car Wash Fundraiser
DESCRIPTION:Join us on Sunday\, May 17th from 9:00 AM – 2:00 PM at Lucky Oil (1416 Lakeview Ave\, Dracut\, MA) for our Car Wash Fundraiser! \nBring your car and support our Middies athletes—this is a donation-based event\, so give what you can and help us continue building a strong football and cheer program for our community. \nEvery dollar goes directly toward supporting our teams\, equipment\, and season expenses. \nCome get your car cleaned and support a great cause—we appreciate your support!
URL:https://dracutpopwarner.com/event/car-wash-fundraiser/
LOCATION:Lucky Burner Services Inc\, 1416 Lakeview Ave\, Dracut\, MA\, 01826\, United States
CATEGORIES:Fundraising Events
ATTACH;FMTTYPE=image/png:https://dracutpopwarner.com/wp-content/uploads/2026/04/Dracut-Middies-Car-Wash-Fundraiser.png
ORGANIZER;CN="Dracut Pop Warner":MAILTO:president@dracutpopwarner.com
END:VEVENT
BEGIN:VEVENT
DTSTART;TZID=America/New_York:20260603T180000
DTEND;TZID=America/New_York:20260603T200000
DTSTAMP:20260424T152939
CREATED:20260330T200234Z
LAST-MODIFIED:20260330T201601Z
UID:6064-1780509600-1780516800@dracutpopwarner.com
SUMMARY:Supporters Meeting
DESCRIPTION:
URL:https://dracutpopwarner.com/event/supporters-meeting-4/
LOCATION:Owen & Ollie’s Restaurant & Pub\, 91 Mill St.\, Dracut\, MA\, 01826\, United States
CATEGORIES:Supporters
ATTACH;FMTTYPE=image/png:https://dracutpopwarner.com/wp-content/uploads/2026/03/dracut_supporters_icon_meeting_black.png
ORGANIZER;CN="Dracut Pop Warner":MAILTO:president@dracutpopwarner.com
END:VEVENT
BEGIN:VEVENT
DTSTART;TZID=America/New_York:20260701T180000
DTEND;TZID=America/New_York:20260701T200000
DTSTAMP:20260424T152939
CREATED:20260330T200310Z
LAST-MODIFIED:20260330T201747Z
UID:6066-1782928800-1782936000@dracutpopwarner.com
SUMMARY:Supporters Meeting
DESCRIPTION:
URL:https://dracutpopwarner.com/event/supporters-meeting-5/
LOCATION:Owen & Ollie’s Restaurant & Pub\, 91 Mill St.\, Dracut\, MA\, 01826\, United States
CATEGORIES:Supporters
ATTACH;FMTTYPE=image/png:https://dracutpopwarner.com/wp-content/uploads/2026/03/dracut_supporters_icon_meeting_black.png
ORGANIZER;CN="Dracut Pop Warner":MAILTO:president@dracutpopwarner.com
END:VEVENT
BEGIN:VEVENT
DTSTART;VALUE=DATE:20260715
DTEND;VALUE=DATE:20260716
DTSTAMP:20260424T152939
CREATED:20260330T202747Z
LAST-MODIFIED:20260330T202747Z
UID:6079-1784073600-1784159999@dracutpopwarner.com
SUMMARY:2026 Season Start
DESCRIPTION:The official start of the 2026 Football & Cheer season is July 15. We’re excited to kick off another great season and welcome all of our athletes back to the field and sidelines. Coaches will be reaching out prior to this date with team-specific details\, including practice schedules and expectations.
URL:https://dracutpopwarner.com/event/2026-season-start/
LOCATION:MA
CATEGORIES:Featured Events,Football Events
ATTACH;FMTTYPE=image/png:https://dracutpopwarner.com/wp-content/uploads/2026/03/start.png
ORGANIZER;CN="Dracut Pop Warner":MAILTO:president@dracutpopwarner.com
END:VEVENT
BEGIN:VEVENT
DTSTART;TZID=America/New_York:20260805T180000
DTEND;TZID=America/New_York:20260805T200000
DTSTAMP:20260424T152939
CREATED:20260330T200341Z
LAST-MODIFIED:20260330T201803Z
UID:6068-1785952800-1785960000@dracutpopwarner.com
SUMMARY:Supporters Meeting
DESCRIPTION:
URL:https://dracutpopwarner.com/event/supporters-meeting-6/
LOCATION:Owen & Ollie’s Restaurant & Pub\, 91 Mill St.\, Dracut\, MA\, 01826\, United States
CATEGORIES:Supporters
ATTACH;FMTTYPE=image/png:https://dracutpopwarner.com/wp-content/uploads/2026/03/dracut_supporters_icon_meeting_black.png
ORGANIZER;CN="Dracut Pop Warner":MAILTO:president@dracutpopwarner.com
END:VEVENT
BEGIN:VEVENT
DTSTART;TZID=America/New_York:20260902T180000
DTEND;TZID=America/New_York:20260902T200000
DTSTAMP:20260424T152939
CREATED:20260330T200423Z
LAST-MODIFIED:20260330T201826Z
UID:6070-1788372000-1788379200@dracutpopwarner.com
SUMMARY:Supporters Meeting
DESCRIPTION:
URL:https://dracutpopwarner.com/event/supporters-meeting-7/
LOCATION:Owen & Ollie’s Restaurant & Pub\, 91 Mill St.\, Dracut\, MA\, 01826\, United States
CATEGORIES:Supporters
ATTACH;FMTTYPE=image/png:https://dracutpopwarner.com/wp-content/uploads/2026/03/dracut_supporters_icon_meeting_black.png
ORGANIZER;CN="Dracut Pop Warner":MAILTO:president@dracutpopwarner.com
END:VEVENT
BEGIN:VEVENT
DTSTART;TZID=America/New_York:20261007T180000
DTEND;TZID=America/New_York:20261007T200000
DTSTAMP:20260424T152939
CREATED:20260330T200458Z
LAST-MODIFIED:20260330T202033Z
UID:6072-1791396000-1791403200@dracutpopwarner.com
SUMMARY:Supporters Meeting
DESCRIPTION:
URL:https://dracutpopwarner.com/event/supporters-meeting-8/
LOCATION:Owen & Ollie’s Restaurant & Pub\, 91 Mill St.\, Dracut\, MA\, 01826\, United States
CATEGORIES:Supporters
ATTACH;FMTTYPE=image/png:https://dracutpopwarner.com/wp-content/uploads/2026/03/dracut_supporters_icon_meeting_black.png
ORGANIZER;CN="Dracut Pop Warner":MAILTO:president@dracutpopwarner.com
END:VEVENT
BEGIN:VEVENT
DTSTART;TZID=America/New_York:20261104T180000
DTEND;TZID=America/New_York:20261104T200000
DTSTAMP:20260424T152939
CREATED:20260330T200532Z
LAST-MODIFIED:20260330T202112Z
UID:6074-1793815200-1793822400@dracutpopwarner.com
SUMMARY:Supporters Meeting
DESCRIPTION:
URL:https://dracutpopwarner.com/event/supporters-meeting-9/
LOCATION:Owen & Ollie’s Restaurant & Pub\, 91 Mill St.\, Dracut\, MA\, 01826\, United States
CATEGORIES:Supporters
ATTACH;FMTTYPE=image/png:https://dracutpopwarner.com/wp-content/uploads/2026/03/dracut_supporters_icon_meeting_black.png
ORGANIZER;CN="Dracut Pop Warner":MAILTO:president@dracutpopwarner.com
END:VEVENT
BEGIN:VEVENT
DTSTART;TZID=America/New_York:20261202T180000
DTEND;TZID=America/New_York:20261202T200000
DTSTAMP:20260424T152939
CREATED:20260330T200603Z
LAST-MODIFIED:20260330T202125Z
UID:6076-1796234400-1796241600@dracutpopwarner.com
SUMMARY:Supporters Meeting
DESCRIPTION:
URL:https://dracutpopwarner.com/event/supporters-meeting-10/
LOCATION:Owen & Ollie’s Restaurant & Pub\, 91 Mill St.\, Dracut\, MA\, 01826\, United States
CATEGORIES:Supporters
ATTACH;FMTTYPE=image/png:https://dracutpopwarner.com/wp-content/uploads/2026/03/dracut_supporters_icon_meeting_black.png
ORGANIZER;CN="Dracut Pop Warner":MAILTO:president@dracutpopwarner.com
END:VEVENT
END:VCALENDAR